BEGIN:VCALENDAR
VERSION:2.0
PRODID:floktu.com
X-WR-TIMEZONE:Australia/Sydney
X-PUBLISHED-TTL:P1W
BEGIN:VEVENT
UID:FloktuSchedule14548@floktu.com
DTSTART;TZID=Australia/Sydney:20120930T160000
SEQUENCE:0
TRANSP:OPAQUE
DTEND;TZID=Australia/Sydney:20120930T170000
LOCATION:Crackhouse (Suite 40)\, Hunter Street Mall\, Newcastle\, NSW
SUMMARY:This is Not Art - Impossible Plays
DESCRIPTION:Impossible Plays was a theatre adventure taken in 2011. Four pe
 rformers re-enacted the real life fantasies of four interviewees. This eve
 nt is a performance lecture about that work that leaves the audience wonde
 ring how much is fiction. A work that speaks the reality of our imaginatio
 ns.
DTSTAMP:20260425T115730Z
END:VEVENT
BEGIN:VTIMEZONE
TZID:Australia/Sydney
X-LIC-LOCATION:Australia/Sydney
END:VTIMEZONE
END:VCALENDAR