BEGIN:VCALENDAR
VERSION:2.0
PRODID:floktu.com
X-WR-TIMEZONE:Australia/Sydney
X-PUBLISHED-TTL:P1W
BEGIN:VEVENT
UID:FloktuSchedule14523@floktu.com
DTSTART;TZID=Australia/Sydney:20120929T143000
SEQUENCE:0
TRANSP:OPAQUE
DTEND;TZID=Australia/Sydney:20120929T163000
LOCATION:Lock-Up Cultural Centre\, 90 Hunter Street\, Newcastle\, NSW\, 
SUMMARY:This is Not Art - Bodies in Distress
DESCRIPTION:A performance addressing morally ambiguous bodies - criminal co
 rpses\, suicides and the executed. Researchers from the Australian Researc
 h Councils Centre for the History of Emotions have paired with contemporar
 y artists to explore the morbid attraction of the macabre. Afterwards a pa
 nel will discuss connections between moralized punishments and physical di
 stress across history\, and the role of art and academia in raising diffic
 ult questions about death\, sin\, and the body.\n\nMimi Kelly\, Carolyn Mc
 Kay\, Una McIllvenna\, Rebecca McNamara\, Gabriel Watts
DTSTAMP:20260425T102108Z
END:VEVENT
BEGIN:VTIMEZONE
TZID:Australia/Sydney
X-LIC-LOCATION:Australia/Sydney
END:VTIMEZONE
END:VCALENDAR