BEGIN:VCALENDAR
VERSION:2.0
PRODID:floktu.com
X-WR-TIMEZONE:Australia/Sydney
X-PUBLISHED-TTL:P1W
BEGIN:VEVENT
UID:FloktuSchedule14510@floktu.com
DTSTART;TZID=Australia/Sydney:20120929T100000
SEQUENCE:0
TRANSP:OPAQUE
DTEND;TZID=Australia/Sydney:20120929T123000
LOCATION:The Great Northern Hotel\, 89 Scott Street\, Newcastle\, NSW\, 
SUMMARY:This is Not Art - Walking the Digital City - a Document for DeCerte
 au
DESCRIPTION:This 3 hour interactive workshop will utilise digital mapping t
 echnologies as a means of re-enchanting Newcastle. A rebuff to the mass-ra
 tionalisation of space seen in the digital age\, Josh Harle will create an
 d record a poetic encounter with the city. Bring cameras\, recording devic
 es\, laptops\, tablets and cables.\n\nJosh Harle
DTSTAMP:20260425T102316Z
END:VEVENT
BEGIN:VTIMEZONE
TZID:Australia/Sydney
X-LIC-LOCATION:Australia/Sydney
END:VTIMEZONE
END:VCALENDAR